BEGIN:VCALENDAR
VERSION:2.0
PRODID:icalendar-ruby
CALSCALE:GREGORIAN
METHOD:PUBLISH
BEGIN:VEVENT
DTSTAMP:20260425T021655Z
UID:f3a954c6-eda5-48ef-9cf8-574c850f2785
DTSTART;VALUE=DATE:20200625
DTEND;VALUE=DATE:20200625
DESCRIPTION:Rad Canyon BMX
LOCATION:5200 W 9800 S  West Jordan UT 84081 USA
SUMMARY:Standard Single Single
URL:/site/bmx_races/441749
END:VEVENT
END:VCALENDAR
