BEGIN:VCALENDAR
VERSION:2.0
PRODID:icalendar-ruby
CALSCALE:GREGORIAN
METHOD:PUBLISH
BEGIN:VEVENT
DTSTAMP:20260424T090207Z
UID:715c16f5-9502-4cc5-8f73-4bc82e9b7499
DTSTART;VALUE=DATE:20200602
DTEND;VALUE=DATE:20200602
DESCRIPTION:HD BMX
LOCATION:17427 Live Oak St  Hesperia CA 92345 USA
SUMMARY:Standard Single Single
URL:/site/bmx_races/441698
END:VEVENT
END:VCALENDAR
