BEGIN:VCALENDAR
VERSION:2.0
PRODID:icalendar-ruby
CALSCALE:GREGORIAN
METHOD:PUBLISH
BEGIN:VEVENT
DTSTAMP:20260424T110441Z
UID:d2f9ff55-4bb4-478f-8c29-a61a0453c33d
DTSTART;VALUE=DATE:20200612
DTEND;VALUE=DATE:20200614
DESCRIPTION:Black Mountain BMX
LOCATION:24024 N 11th St  Phoenix AZ 85024 USA
SUMMARY:DESERT CLASSIC NATIONALS
URL:/site/bmx_races/441084
END:VEVENT
END:VCALENDAR
