BEGIN:VCALENDAR
VERSION:2.0
PRODID:icalendar-ruby
CALSCALE:GREGORIAN
METHOD:PUBLISH
BEGIN:VEVENT
DTSTAMP:20260424T194656Z
UID:9af9dc07-03b6-4362-9336-574cf7011d43
DTSTART;VALUE=DATE:20200627
DTEND;VALUE=DATE:20200627
DESCRIPTION:Black Mountain BMX
LOCATION:24024 N 11th St  Phoenix AZ 85024 USA
SUMMARY:Standard Single Single
URL:/site/bmx_races/440786
END:VEVENT
END:VCALENDAR
