BEGIN:VCALENDAR
VERSION:2.0
PRODID:icalendar-ruby
CALSCALE:GREGORIAN
METHOD:PUBLISH
BEGIN:VEVENT
DTSTAMP:20260424T181727Z
UID:c396bed9-18fd-47d6-ba89-84dc5c8560d3
DTSTART;VALUE=DATE:20200716
DTEND;VALUE=DATE:20200716
DESCRIPTION:Electric City BMX
LOCATION:1200 21st Ave So  Great Falls MT 59405 USA
SUMMARY:Standard Single Single
URL:/site/bmx_races/440743
END:VEVENT
END:VCALENDAR
