BEGIN:VCALENDAR
VERSION:2.0
PRODID:icalendar-ruby
CALSCALE:GREGORIAN
METHOD:PUBLISH
BEGIN:VEVENT
DTSTAMP:20260424T121320Z
UID:25ee2bfa-5928-449b-bc80-2d08a6181549
DTSTART;VALUE=DATE:20200822
DTEND;VALUE=DATE:20200822
DESCRIPTION:Imagination Glen BMX
LOCATION:2190 N State Rd 149  Portage IN 46304 USA
SUMMARY:Standard Single Single
URL:/site/bmx_races/440614
END:VEVENT
END:VCALENDAR
