BEGIN:VCALENDAR
VERSION:2.0
PRODID:icalendar-ruby
CALSCALE:GREGORIAN
METHOD:PUBLISH
BEGIN:VEVENT
DTSTAMP:20260425T114335Z
UID:1ea14432-173e-4655-a2a6-9159a9a13196
DTSTART;VALUE=DATE:20201004
DTEND;VALUE=DATE:20201004
DESCRIPTION:Park City BMX
LOCATION:6801 N Hydraulic  Park City KS 67219 USA
SUMMARY:Standard Single Single
URL:/site/bmx_races/440439
END:VEVENT
END:VCALENDAR
