BEGIN:VCALENDAR
VERSION:2.0
PRODID:icalendar-ruby
CALSCALE:GREGORIAN
METHOD:PUBLISH
BEGIN:VEVENT
DTSTAMP:20260424T121224Z
UID:68e0c72a-f3c6-4fd2-a3fe-805d9b54acfd
DTSTART;VALUE=DATE:20200823
DTEND;VALUE=DATE:20200823
DESCRIPTION:Park City BMX
LOCATION:6801 N Hydraulic  Park City KS 67219 USA
SUMMARY:Standard Single Single
URL:/site/bmx_races/440433
END:VEVENT
END:VCALENDAR
