BEGIN:VCALENDAR
VERSION:2.0
PRODID:icalendar-ruby
CALSCALE:GREGORIAN
METHOD:PUBLISH
BEGIN:VEVENT
DTSTAMP:20260424T072237Z
UID:4aa5561a-16f2-46bb-9651-c1289889cdd4
DTSTART;VALUE=DATE:20201031
DTEND;VALUE=DATE:20201031
DESCRIPTION:Valley BMX
LOCATION:Myron Ln.  Off Wilawana Rd Athens PA 18840 USA
SUMMARY:Standard Single Single
URL:/site/bmx_races/440101
END:VEVENT
END:VCALENDAR
