BEGIN:VCALENDAR
VERSION:2.0
PRODID:icalendar-ruby
CALSCALE:GREGORIAN
METHOD:PUBLISH
BEGIN:VEVENT
DTSTAMP:20260425T035246Z
UID:dc2f41a0-b8a2-4af1-ad6f-967925610a29
DTSTART;VALUE=DATE:20200306
DTEND;VALUE=DATE:20200306
DESCRIPTION:Duke City BMX
LOCATION:1011 Buena Vista Dr Se  Albuquerque NM 87106 USA
SUMMARY:Standard Single Single
URL:/site/bmx_races/439802
END:VEVENT
END:VCALENDAR
