BEGIN:VCALENDAR
VERSION:2.0
PRODID:icalendar-ruby
CALSCALE:GREGORIAN
METHOD:PUBLISH
BEGIN:VEVENT
DTSTAMP:20260424T154546Z
UID:46379846-de33-490f-ae10-ce06d4ccee65
DTSTART;VALUE=DATE:20200509
DTEND;VALUE=DATE:20200509
DESCRIPTION:Cherry Hill Park BMX
LOCATION:1727 N 15th St  Coeur D`Alene ID 83814 USA
SUMMARY:Standard Single Single
URL:/site/bmx_races/439496
END:VEVENT
END:VCALENDAR
