BEGIN:VCALENDAR
VERSION:2.0
PRODID:icalendar-ruby
CALSCALE:GREGORIAN
METHOD:PUBLISH
BEGIN:VEVENT
DTSTAMP:20260425T165245Z
UID:eafebff1-6bed-4b4a-a08a-9a1652f9eddf
DTSTART;VALUE=DATE:20201024
DTEND;VALUE=DATE:20201024
DESCRIPTION:Rum River BMX
LOCATION:Isanti Parkway Northwest  Isanti MN 55040 USA
SUMMARY:Earned Double
URL:/site/bmx_races/438720
END:VEVENT
END:VCALENDAR
