BEGIN:VCALENDAR
VERSION:2.0
PRODID:icalendar-ruby
CALSCALE:GREGORIAN
METHOD:PUBLISH
BEGIN:VEVENT
DTSTAMP:20260424T220356Z
UID:bf33891f-27b4-4f6b-8467-2ee078965b01
DTSTART;VALUE=DATE:20200819
DTEND;VALUE=DATE:20200819
DESCRIPTION:Sports Park BMX
LOCATION:6901 N Casa Grande Highway  Tucson AZ 85743 USA
SUMMARY:Standard Single Single
URL:/site/bmx_races/438630
END:VEVENT
END:VCALENDAR
