BEGIN:VCALENDAR
VERSION:2.0
PRODID:icalendar-ruby
CALSCALE:GREGORIAN
METHOD:PUBLISH
BEGIN:VEVENT
DTSTAMP:20260425T105420Z
UID:9d065d12-4488-4296-80e9-134346d503f4
DTSTART;VALUE=DATE:20200919
DTEND;VALUE=DATE:20200919
DESCRIPTION:Mike Sedar BMX
LOCATION:789 College Dr  Casper WY 82601 USA
SUMMARY:Standard Single Single
URL:/site/bmx_races/437954
END:VEVENT
END:VCALENDAR
