BEGIN:VCALENDAR
VERSION:2.0
PRODID:icalendar-ruby
CALSCALE:GREGORIAN
METHOD:PUBLISH
BEGIN:VEVENT
DTSTAMP:20260424T175211Z
UID:3cc11221-e8fe-431d-9455-2c9adce6dd4e
DTSTART;VALUE=DATE:20200219
DTEND;VALUE=DATE:20200219
DESCRIPTION:St. Cloud BMX
LOCATION:2401 Peghorn Way  St. Cloud FL 34769 USA
SUMMARY:Standard Single Single
URL:/site/bmx_races/437889
END:VEVENT
END:VCALENDAR
