BEGIN:VCALENDAR
VERSION:2.0
PRODID:icalendar-ruby
CALSCALE:GREGORIAN
METHOD:PUBLISH
BEGIN:VEVENT
DTSTAMP:20260426T021024Z
UID:b6507746-ca8c-49d8-b05b-eda18a96e794
DTSTART;VALUE=DATE:20200822
DTEND;VALUE=DATE:20200822
DESCRIPTION:Waukegan BMX
LOCATION:2785 W Yorkhouse Rd  Waukegan IL 60085 USA
SUMMARY:Standard Double Double
URL:/site/bmx_races/437839
END:VEVENT
END:VCALENDAR
