BEGIN:VCALENDAR
VERSION:2.0
PRODID:icalendar-ruby
CALSCALE:GREGORIAN
METHOD:PUBLISH
BEGIN:VEVENT
DTSTAMP:20260424T063223Z
UID:a79e508b-af72-4943-a9b8-fa7edf04f682
DTSTART;VALUE=DATE:20200913
DTEND;VALUE=DATE:20200913
DESCRIPTION:Hornet`s Nest BMX
LOCATION:6301 Beatties Ford Rd  Charlotte NC 28216 USA
SUMMARY:Final Triple
URL:/site/bmx_races/437832
END:VEVENT
END:VCALENDAR
