BEGIN:VCALENDAR
VERSION:2.0
PRODID:icalendar-ruby
CALSCALE:GREGORIAN
METHOD:PUBLISH
BEGIN:VEVENT
DTSTAMP:20260424T090138Z
UID:923b6b91-3c7f-4289-a864-513e01a66230
DTSTART;VALUE=DATE:20200815
DTEND;VALUE=DATE:20200815
DESCRIPTION:Yukon BMX
LOCATION:Taylor Park Sports Complex   410 N 11th St Yukon OK 73064 USA
SUMMARY:Earned Double
URL:/site/bmx_races/437351
END:VEVENT
END:VCALENDAR
