BEGIN:VCALENDAR
VERSION:2.0
PRODID:icalendar-ruby
CALSCALE:GREGORIAN
METHOD:PUBLISH
BEGIN:VEVENT
DTSTAMP:20260425T184837Z
UID:e6a73867-c6ec-4ec7-b9fe-e28ab0fc2a47
DTSTART;VALUE=DATE:20200923
DTEND;VALUE=DATE:20200923
DESCRIPTION:Rapid City BMX
LOCATION:626 E Fairmont Blvd  Rapid City SD 57701 USA
SUMMARY:Standard Single Single
URL:/site/bmx_races/437153
END:VEVENT
END:VCALENDAR
