BEGIN:VCALENDAR
VERSION:2.0
PRODID:icalendar-ruby
CALSCALE:GREGORIAN
METHOD:PUBLISH
BEGIN:VEVENT
DTSTAMP:20260424T163546Z
UID:2d857ce6-ade8-4f54-b861-8cbdc44da4f7
DTSTART;VALUE=DATE:20200926
DTEND;VALUE=DATE:20200926
DESCRIPTION:River City BMX
LOCATION:251 Ne Agness  Grants Pass OR 97526 USA
SUMMARY:Earned Double
URL:/site/bmx_races/436857
END:VEVENT
END:VCALENDAR
