BEGIN:VCALENDAR
VERSION:2.0
PRODID:icalendar-ruby
CALSCALE:GREGORIAN
METHOD:PUBLISH
BEGIN:VEVENT
DTSTAMP:20260424T091855Z
UID:05f3aa60-5ab6-460c-8fb3-d286c913e478
DTSTART;VALUE=DATE:20200724
DTEND;VALUE=DATE:20200724
DESCRIPTION:Pineview Park BMX
LOCATION:6540 Saukview Dr  St. Cloud MN 56303 USA
SUMMARY:Earned Double
URL:/site/bmx_races/436853
END:VEVENT
END:VCALENDAR
