BEGIN:VCALENDAR
VERSION:2.0
PRODID:icalendar-ruby
CALSCALE:GREGORIAN
METHOD:PUBLISH
BEGIN:VEVENT
DTSTAMP:20260424T104433Z
UID:19844fba-2290-4795-93b2-2201eec77855
DTSTART;VALUE=DATE:20200204
DTEND;VALUE=DATE:20200204
DESCRIPTION:Elkhorn BMX
LOCATION:848 Elkhorn Blvd  Rio Linda CA 95673 USA
SUMMARY:Standard Single Single
URL:/site/bmx_races/436648
END:VEVENT
END:VCALENDAR
