BEGIN:VCALENDAR
VERSION:2.0
PRODID:icalendar-ruby
CALSCALE:GREGORIAN
METHOD:PUBLISH
BEGIN:VEVENT
DTSTAMP:20260424T093711Z
UID:e838c973-6f94-4ddb-b5bc-a0ec68c095d1
DTSTART;VALUE=DATE:20201016
DTEND;VALUE=DATE:20201016
DESCRIPTION:Mag Ridge BMX Park
LOCATION:344 Oldtown Crossing  Ridgeland MS 39157 USA
SUMMARY:Earned Double
URL:/site/bmx_races/436287
END:VEVENT
END:VCALENDAR
