BEGIN:VCALENDAR
VERSION:2.0
PRODID:icalendar-ruby
CALSCALE:GREGORIAN
METHOD:PUBLISH
BEGIN:VEVENT
DTSTAMP:20260425T125443Z
UID:e0c5a1a6-00d0-4a5c-aba8-b354405a0f29
DTSTART;VALUE=DATE:20201205
DTEND;VALUE=DATE:20201205
DESCRIPTION:Air Time BMX
LOCATION:5051 S Frankwood Ave  Reedley CA 93654 USA
SUMMARY:Standard Single Single
URL:/site/bmx_races/436108
END:VEVENT
END:VCALENDAR
