BEGIN:VCALENDAR
VERSION:2.0
PRODID:icalendar-ruby
CALSCALE:GREGORIAN
METHOD:PUBLISH
BEGIN:VEVENT
DTSTAMP:20260424T091904Z
UID:18a4bfba-8a45-4ea0-a0f1-afa2e7db0ca5
DTSTART;VALUE=DATE:20201020
DTEND;VALUE=DATE:20201020
DESCRIPTION:Air Time BMX
LOCATION:5051 S Frankwood Ave  Reedley CA 93654 USA
SUMMARY:Standard Single Single
URL:/site/bmx_races/436095
END:VEVENT
END:VCALENDAR
