BEGIN:VCALENDAR
VERSION:2.0
PRODID:icalendar-ruby
CALSCALE:GREGORIAN
METHOD:PUBLISH
BEGIN:VEVENT
DTSTAMP:20260425T035307Z
UID:d4bbb01b-7307-44b3-b605-b8d665269adc
DTSTART;VALUE=DATE:20200920
DTEND;VALUE=DATE:20200920
DESCRIPTION:Kettering BMX
LOCATION:1700 Delco Park Dr  Kettering OH 45429 USA
SUMMARY:Standard Single Single
URL:/site/bmx_races/435790
END:VEVENT
END:VCALENDAR
