BEGIN:VCALENDAR
VERSION:2.0
PRODID:icalendar-ruby
CALSCALE:GREGORIAN
METHOD:PUBLISH
BEGIN:VEVENT
DTSTAMP:20260424T215307Z
UID:22a8c885-ea64-44c6-b884-b171e886df50
DTSTART;VALUE=DATE:20130511
DTEND;VALUE=DATE:20130511
DESCRIPTION:Colorado River BMX
LOCATION:2230 Highland Dr  Bullhead City AZ 86442 USA
SUMMARY:Earned Double
URL:/site/bmx_races/43379
END:VEVENT
END:VCALENDAR
