BEGIN:VCALENDAR
VERSION:2.0
PRODID:icalendar-ruby
CALSCALE:GREGORIAN
METHOD:PUBLISH
BEGIN:VEVENT
DTSTAMP:20260425T113048Z
UID:5854ce95-879f-4bfd-a44a-85b69a591bcd
DTSTART;VALUE=DATE:20200717
DTEND;VALUE=DATE:20200717
DESCRIPTION:Pineview Park BMX
LOCATION:6540 Saukview Dr  St. Cloud MN 56303 USA
SUMMARY:Warnicke Double Double
URL:/site/bmx_races/433562
END:VEVENT
END:VCALENDAR
