BEGIN:VCALENDAR
VERSION:2.0
PRODID:icalendar-ruby
CALSCALE:GREGORIAN
METHOD:PUBLISH
BEGIN:VEVENT
DTSTAMP:20260424T220229Z
UID:470bb898-dfea-491d-8fec-3e82c56a51b2
DTSTART;VALUE=DATE:20200626
DTEND;VALUE=DATE:20200626
DESCRIPTION:Burdette Park BMX
LOCATION:5821 Nurrenbern Rd  Evansville IN 47712 USA
SUMMARY:Standard Single Single
URL:/site/bmx_races/433436
END:VEVENT
END:VCALENDAR
