BEGIN:VCALENDAR
VERSION:2.0
PRODID:icalendar-ruby
CALSCALE:GREGORIAN
METHOD:PUBLISH
BEGIN:VEVENT
DTSTAMP:20260425T035247Z
UID:dd168618-5371-4b22-82db-793dcb19a6d2
DTSTART;VALUE=DATE:20200712
DTEND;VALUE=DATE:20200712
DESCRIPTION:VMP BMX
LOCATION:8018 Boydton Plank Road  N Dinwiddie VA 23803 USA
SUMMARY:Standard Single Single
URL:/site/bmx_races/433341
END:VEVENT
END:VCALENDAR
