BEGIN:VCALENDAR
VERSION:2.0
PRODID:icalendar-ruby
CALSCALE:GREGORIAN
METHOD:PUBLISH
BEGIN:VEVENT
DTSTAMP:20260424T105917Z
UID:0de21843-3347-4dc7-bc0c-7ec511605a36
DTSTART;VALUE=DATE:20200909
DTEND;VALUE=DATE:20200909
DESCRIPTION:HD BMX
LOCATION:17427 Live Oak St  Hesperia CA 92345 USA
SUMMARY:Standard Single Single
URL:/site/bmx_races/432121
END:VEVENT
END:VCALENDAR
