BEGIN:VCALENDAR
VERSION:2.0
PRODID:icalendar-ruby
CALSCALE:GREGORIAN
METHOD:PUBLISH
BEGIN:VEVENT
DTSTAMP:20260425T113725Z
UID:cf4572af-7d77-4488-85ee-5256246c2024
DTSTART;VALUE=DATE:20200812
DTEND;VALUE=DATE:20200812
DESCRIPTION:Oak Creek BMX
LOCATION:648 Riverside Ave  Roseville CA 95678 USA
SUMMARY:Standard Single Single
URL:/site/bmx_races/431819
END:VEVENT
END:VCALENDAR
