BEGIN:VCALENDAR
VERSION:2.0
PRODID:icalendar-ruby
CALSCALE:GREGORIAN
METHOD:PUBLISH
BEGIN:VEVENT
DTSTAMP:20260424T080019Z
UID:764d4d19-801d-4517-a5d9-6599159b8ec1
DTSTART;VALUE=DATE:20200301
DTEND;VALUE=DATE:20200301
DESCRIPTION:Silver Dollar BMX
LOCATION:2352 Dr. Martin Luther King Jr. Parkway  Chico CA 95928 USA
SUMMARY:Standard Single Single
URL:/site/bmx_races/431217
END:VEVENT
END:VCALENDAR
