BEGIN:VCALENDAR
VERSION:2.0
PRODID:icalendar-ruby
CALSCALE:GREGORIAN
METHOD:PUBLISH
BEGIN:VEVENT
DTSTAMP:20260424T201254Z
UID:a3024d04-4a57-4c0b-8c03-ee500cdbb52a
DTSTART;VALUE=DATE:20200907
DTEND;VALUE=DATE:20200907
DESCRIPTION:Emerald Valley BMX
LOCATION:2715 Leo Harris Pkwy  Eugene OR 97402 USA
SUMMARY:Standard Single Single
URL:/site/bmx_races/430537
END:VEVENT
END:VCALENDAR
