BEGIN:VCALENDAR
VERSION:2.0
PRODID:icalendar-ruby
CALSCALE:GREGORIAN
METHOD:PUBLISH
BEGIN:VEVENT
DTSTAMP:20260425T011556Z
UID:31a1db4c-9439-423c-8499-da6be8095aca
DTSTART;VALUE=DATE:20200131
DTEND;VALUE=DATE:20200131
DESCRIPTION:Black Mountain BMX
LOCATION:24024 N 11th St  Phoenix AZ 85024 USA
SUMMARY:Standard Single Single
URL:/site/bmx_races/429637
END:VEVENT
END:VCALENDAR
