BEGIN:VCALENDAR
VERSION:2.0
PRODID:icalendar-ruby
CALSCALE:GREGORIAN
METHOD:PUBLISH
BEGIN:VEVENT
DTSTAMP:20260424T115759Z
UID:4ee400d9-80b2-4e29-84b7-a1fb929c9cf9
DTSTART;VALUE=DATE:20200227
DTEND;VALUE=DATE:20200227
DESCRIPTION:Lake Havasu City BMX
LOCATION:7260 Mc Culloch Blvd S. #B  Lake Havasu City AZ 86406 USA
SUMMARY:Standard Single Single
URL:/site/bmx_races/429102
END:VEVENT
END:VCALENDAR
