BEGIN:VCALENDAR
VERSION:2.0
PRODID:icalendar-ruby
CALSCALE:GREGORIAN
METHOD:PUBLISH
BEGIN:VEVENT
DTSTAMP:20260425T113703Z
UID:a6242c71-73f3-4958-971c-d28cc71763b5
DTSTART;VALUE=DATE:20201030
DTEND;VALUE=DATE:20201030
DESCRIPTION:Omaha BMX
LOCATION:11111 W Maple Rd  Omaha NE 68164 USA
SUMMARY:Standard Single Single
URL:/site/bmx_races/429072
END:VEVENT
END:VCALENDAR
