BEGIN:VCALENDAR
VERSION:2.0
PRODID:icalendar-ruby
CALSCALE:GREGORIAN
METHOD:PUBLISH
BEGIN:VEVENT
DTSTAMP:20260424T131241Z
UID:0960210d-de5f-4a83-9022-01d45a1c1093
DTSTART;VALUE=DATE:20201017
DTEND;VALUE=DATE:20201017
DESCRIPTION:Pearland BMX
LOCATION:5657 Morning Dove Ln  Alvin TX 77511 USA
SUMMARY:Standard Single Single
URL:/site/bmx_races/428438
END:VEVENT
END:VCALENDAR
