BEGIN:VCALENDAR
VERSION:2.0
PRODID:icalendar-ruby
CALSCALE:GREGORIAN
METHOD:PUBLISH
BEGIN:VEVENT
DTSTAMP:20260424T173523Z
UID:4d692c42-d56f-433f-9a71-0421e0ad9c20
DTSTART;VALUE=DATE:20200613
DTEND;VALUE=DATE:20200613
DESCRIPTION:Pearland BMX
LOCATION:5657 Morning Dove Ln  Alvin TX 77511 USA
SUMMARY:Standard Single Single
URL:/site/bmx_races/428384
END:VEVENT
END:VCALENDAR
