BEGIN:VCALENDAR
VERSION:2.0
PRODID:icalendar-ruby
CALSCALE:GREGORIAN
METHOD:PUBLISH
BEGIN:VEVENT
DTSTAMP:20260424T101329Z
UID:73b47c81-2a24-4d1b-8fdc-52eff49e5b71
DTSTART;VALUE=DATE:20200508
DTEND;VALUE=DATE:20200508
DESCRIPTION:Pearland BMX
LOCATION:5657 Morning Dove Ln  Alvin TX 77511 USA
SUMMARY:Standard Single Single
URL:/site/bmx_races/428368
END:VEVENT
END:VCALENDAR
