BEGIN:VCALENDAR
VERSION:2.0
PRODID:icalendar-ruby
CALSCALE:GREGORIAN
METHOD:PUBLISH
BEGIN:VEVENT
DTSTAMP:20260425T142058Z
UID:28db7617-08a6-44f8-a3c4-9308522e17f8
DTSTART;VALUE=DATE:20200918
DTEND;VALUE=DATE:20200918
DESCRIPTION:Jacksonville BMX
LOCATION:1946 Ray Greene Drive  Jacksonville FL 32218 USA
SUMMARY:Standard Single Single
URL:/site/bmx_races/427659
END:VEVENT
END:VCALENDAR
