BEGIN:VCALENDAR
VERSION:2.0
PRODID:icalendar-ruby
CALSCALE:GREGORIAN
METHOD:PUBLISH
BEGIN:VEVENT
DTSTAMP:20260425T004315Z
UID:a5019d45-eef6-4dd0-afe7-f56c5ee14334
DTSTART;VALUE=DATE:20200212
DTEND;VALUE=DATE:20200212
DESCRIPTION:Ancient City BMX
LOCATION:3005 Alan Nease Rd  St Augustine FL 32033 USA
SUMMARY:Standard Single Single
URL:/site/bmx_races/427093
END:VEVENT
END:VCALENDAR
