BEGIN:VCALENDAR
VERSION:2.0
PRODID:icalendar-ruby
CALSCALE:GREGORIAN
METHOD:PUBLISH
BEGIN:VEVENT
DTSTAMP:20260424T184717Z
UID:311b5892-5eea-477a-8815-a5269c3f646c
DTSTART;VALUE=DATE:20201115
DTEND;VALUE=DATE:20201115
DESCRIPTION:Goodyear BMX Raceway
LOCATION:15660 W Roeser Rd  Goodyear AZ 85338 USA
SUMMARY:Standard Single Single
URL:/site/bmx_races/426952
END:VEVENT
END:VCALENDAR
