BEGIN:VCALENDAR
VERSION:2.0
PRODID:icalendar-ruby
CALSCALE:GREGORIAN
METHOD:PUBLISH
BEGIN:VEVENT
DTSTAMP:20260425T230850Z
UID:38737109-8d9f-4241-8093-beba7c1fabda
DTSTART;VALUE=DATE:20200719
DTEND;VALUE=DATE:20200719
DESCRIPTION:TRI CITY BMX
LOCATION:3710 30th Ave  Kearney NE 68845 USA
SUMMARY:Standard Double Double
URL:/site/bmx_races/426810
END:VEVENT
END:VCALENDAR
