BEGIN:VCALENDAR
VERSION:2.0
PRODID:icalendar-ruby
CALSCALE:GREGORIAN
METHOD:PUBLISH
BEGIN:VEVENT
DTSTAMP:20260425T115123Z
UID:a81dfe22-8d21-4ab8-8a94-0e68a3476fcf
DTSTART;VALUE=DATE:20200807
DTEND;VALUE=DATE:20200807
DESCRIPTION:Boulder BMX\, Inc
LOCATION:1799 Commons Way  Boulder City NV 89005 USA
SUMMARY:Standard Single Single
URL:/site/bmx_races/426661
END:VEVENT
END:VCALENDAR
