BEGIN:VCALENDAR
VERSION:2.0
PRODID:icalendar-ruby
CALSCALE:GREGORIAN
METHOD:PUBLISH
BEGIN:VEVENT
DTSTAMP:20260424T115714Z
UID:353f49ce-5172-4f0e-8153-8eaa0f671051
DTSTART;VALUE=DATE:20200827
DTEND;VALUE=DATE:20200827
DESCRIPTION:Ed Fountain Park BMX Raceway
LOCATION:1400 N Decatur Blvd  Las Vegas NV 89108 USA
SUMMARY:Standard Single Single
URL:/site/bmx_races/426304
END:VEVENT
END:VCALENDAR
