BEGIN:VCALENDAR
VERSION:2.0
PRODID:icalendar-ruby
CALSCALE:GREGORIAN
METHOD:PUBLISH
BEGIN:VEVENT
DTSTAMP:20260424T201243Z
UID:3ba7b9c4-aa78-4dad-970b-0ec14722be00
DTSTART;VALUE=DATE:20200621
DTEND;VALUE=DATE:20200621
DESCRIPTION:Drake Well BMX
LOCATION:516 Allen St  Titusville PA 16354 USA
SUMMARY:Standard Single Single
URL:/site/bmx_races/425859
END:VEVENT
END:VCALENDAR
