BEGIN:VCALENDAR
VERSION:2.0
PRODID:icalendar-ruby
CALSCALE:GREGORIAN
METHOD:PUBLISH
BEGIN:VEVENT
DTSTAMP:20260424T234906Z
UID:4b6ecc48-01c4-4ffc-8b91-a03daf4c91c9
DTSTART;VALUE=DATE:20200821
DTEND;VALUE=DATE:20200821
DESCRIPTION:Fastrax BMX
LOCATION:2800 S 12th St  Bismarck ND 58504 USA
SUMMARY:Race For Life Double Double
URL:/site/bmx_races/425702
END:VEVENT
END:VCALENDAR
