BEGIN:VCALENDAR
VERSION:2.0
PRODID:icalendar-ruby
CALSCALE:GREGORIAN
METHOD:PUBLISH
BEGIN:VEVENT
DTSTAMP:20260425T133512Z
UID:7fc503f1-aed9-4a97-a5a5-3734a32454bb
DTSTART;VALUE=DATE:20200118
DTEND;VALUE=DATE:20200118
DESCRIPTION:Steel Wheels Indoor BMX
LOCATION:709 N Hobart Rd  Hobart IN 46350 USA
SUMMARY:Standard Single Single
URL:/site/bmx_races/425512
END:VEVENT
END:VCALENDAR
