BEGIN:VCALENDAR
VERSION:2.0
PRODID:icalendar-ruby
CALSCALE:GREGORIAN
METHOD:PUBLISH
BEGIN:VEVENT
DTSTAMP:20260425T171920Z
UID:856053ad-ad46-47a9-a6d5-ebc4601ff2cd
DTSTART;VALUE=DATE:20200628
DTEND;VALUE=DATE:20200628
DESCRIPTION:Park City BMX
LOCATION:6801 N Hydraulic  Park City KS 67219 USA
SUMMARY:Standard Double Double
URL:/site/bmx_races/424429
END:VEVENT
END:VCALENDAR
